BEGIN:VCALENDAR
VERSION:2.0
PRODID:-//Photocraft Camera Club of Wallington - ECPv6.15.15//NONSGML v1.0//EN
CALSCALE:GREGORIAN
METHOD:PUBLISH
X-WR-CALNAME:Photocraft Camera Club of Wallington
X-ORIGINAL-URL:https://photocraftcameraclub.co.uk
X-WR-CALDESC:Events for Photocraft Camera Club of Wallington
REFRESH-INTERVAL;VALUE=DURATION:PT1H
X-Robots-Tag:noindex
X-PUBLISHED-TTL:PT1H
BEGIN:VTIMEZONE
TZID:Europe/London
BEGIN:DAYLIGHT
TZOFFSETFROM:+0000
TZOFFSETTO:+0100
TZNAME:BST
DTSTART:20250330T010000
END:DAYLIGHT
BEGIN:STANDARD
TZOFFSETFROM:+0100
TZOFFSETTO:+0000
TZNAME:GMT
DTSTART:20251026T010000
END:STANDARD
BEGIN:DAYLIGHT
TZOFFSETFROM:+0000
TZOFFSETTO:+0100
TZNAME:BST
DTSTART:20260329T010000
END:DAYLIGHT
BEGIN:STANDARD
TZOFFSETFROM:+0100
TZOFFSETTO:+0000
TZNAME:GMT
DTSTART:20261025T010000
END:STANDARD
BEGIN:DAYLIGHT
TZOFFSETFROM:+0000
TZOFFSETTO:+0100
TZNAME:BST
DTSTART:20270328T010000
END:DAYLIGHT
BEGIN:STANDARD
TZOFFSETFROM:+0100
TZOFFSETTO:+0000
TZNAME:GMT
DTSTART:20271031T010000
END:STANDARD
END:VTIMEZONE
BEGIN:VEVENT
DTSTART;TZID=Europe/London:20260513T200000
DTEND;TZID=Europe/London:20260513T200000
DTSTAMP:20260417T205211
CREATED:20250609T161142Z
LAST-MODIFIED:20260228T150937Z
UID:252724-1778702400-1778702400@photocraftcameraclub.co.uk
SUMMARY:Forgotten Little Creatures a talk by Victoria Hillman
DESCRIPTION:Forgotten Little Creatures –\nThis talk covers Victoria’s Forgotten Little Creatures Project and brings together creative photography\, technical details\, stories behind the images and also some interesting fun facts about the subjects.
URL:https://photocraftcameraclub.co.uk/event/forgotten-little-creatures-a-talk-by-victoria-hillman/
LOCATION:Online\, South London
CATEGORIES:Guest Speaker
ATTACH;FMTTYPE=image/jpeg:https://drive.google.com/thumbnail?id=1uDTzt1UVN6JH9SR-F_ZPt6ZXJzC2u9Yw&sz=w2048
ORGANIZER;CN="Photocraft Camera Club of Wallington":MAILTO:photocraftcameraclub@gmail.com
END:VEVENT
END:VCALENDAR