BEGIN:VCALENDAR
VERSION:2.0
PRODID:-//Photocraft Camera Club of Wallington - ECPv6.15.15//NONSGML v1.0//EN
CALSCALE:GREGORIAN
METHOD:PUBLISH
X-ORIGINAL-URL:https://photocraftcameraclub.co.uk
X-WR-CALDESC:Events for Photocraft Camera Club of Wallington
REFRESH-INTERVAL;VALUE=DURATION:PT1H
X-Robots-Tag:noindex
X-PUBLISHED-TTL:PT1H
BEGIN:VTIMEZONE
TZID:Europe/London
BEGIN:DAYLIGHT
TZOFFSETFROM:+0000
TZOFFSETTO:+0100
TZNAME:BST
DTSTART:20250330T010000
END:DAYLIGHT
BEGIN:STANDARD
TZOFFSETFROM:+0100
TZOFFSETTO:+0000
TZNAME:GMT
DTSTART:20251026T010000
END:STANDARD
BEGIN:DAYLIGHT
TZOFFSETFROM:+0000
TZOFFSETTO:+0100
TZNAME:BST
DTSTART:20260329T010000
END:DAYLIGHT
BEGIN:STANDARD
TZOFFSETFROM:+0100
TZOFFSETTO:+0000
TZNAME:GMT
DTSTART:20261025T010000
END:STANDARD
BEGIN:DAYLIGHT
TZOFFSETFROM:+0000
TZOFFSETTO:+0100
TZNAME:BST
DTSTART:20270328T010000
END:DAYLIGHT
BEGIN:STANDARD
TZOFFSETFROM:+0100
TZOFFSETTO:+0000
TZNAME:GMT
DTSTART:20271031T010000
END:STANDARD
END:VTIMEZONE
BEGIN:VEVENT
DTSTART;TZID=Europe/London:20260603T200000
DTEND;TZID=Europe/London:20260603T200000
DTSTAMP:20260419T134341
CREATED:20250609T124838Z
LAST-MODIFIED:20260228T151226Z
UID:252728-1780516800-1780516800@photocraftcameraclub.co.uk
SUMMARY:Print & Projected Digital Image OTY
DESCRIPTION:Select your “best” two images in the Print and PDI categories from previous competitions this season\, for a chance to be crowned the overall champion in each category. All images entered into the competition must not be re-edited in any way\, remaining the same as they were originally presented.
URL:https://photocraftcameraclub.co.uk/event/print-projected-digital-image-oty/
LOCATION:St Patrick’s Centre\, St Patrick's Centre\, Park Hill Road\, Wallington\, SM60RZ\, United Kingdom
CATEGORIES:Club Competition
ATTACH;FMTTYPE=image/jpeg:https://drive.google.com/thumbnail?id=1sfa-eAfLfJmc5GjtC1Uk8G9k0Fff2yhY&sz=w2048
ORGANIZER;CN="Photocraft Camera Club of Wallington":MAILTO:photocraftcameraclub@gmail.com
END:VEVENT
END:VCALENDAR