BEGIN:VCALENDAR
VERSION:2.0
PRODID:-//Photocraft Camera Club of Wallington - ECPv6.15.15//NONSGML v1.0//EN
CALSCALE:GREGORIAN
METHOD:PUBLISH
X-ORIGINAL-URL:https://photocraftcameraclub.co.uk
X-WR-CALDESC:Events for Photocraft Camera Club of Wallington
REFRESH-INTERVAL;VALUE=DURATION:PT1H
X-Robots-Tag:noindex
X-PUBLISHED-TTL:PT1H
BEGIN:VTIMEZONE
TZID:Europe/London
BEGIN:DAYLIGHT
TZOFFSETFROM:+0000
TZOFFSETTO:+0100
TZNAME:BST
DTSTART:20250330T010000
END:DAYLIGHT
BEGIN:STANDARD
TZOFFSETFROM:+0100
TZOFFSETTO:+0000
TZNAME:GMT
DTSTART:20251026T010000
END:STANDARD
BEGIN:DAYLIGHT
TZOFFSETFROM:+0000
TZOFFSETTO:+0100
TZNAME:BST
DTSTART:20260329T010000
END:DAYLIGHT
BEGIN:STANDARD
TZOFFSETFROM:+0100
TZOFFSETTO:+0000
TZNAME:GMT
DTSTART:20261025T010000
END:STANDARD
BEGIN:DAYLIGHT
TZOFFSETFROM:+0000
TZOFFSETTO:+0100
TZNAME:BST
DTSTART:20270328T010000
END:DAYLIGHT
BEGIN:STANDARD
TZOFFSETFROM:+0100
TZOFFSETTO:+0000
TZNAME:GMT
DTSTART:20271031T010000
END:STANDARD
END:VTIMEZONE
BEGIN:VEVENT
DTSTART;TZID=Europe/London:20260610T200000
DTEND;TZID=Europe/London:20260610T200000
DTSTAMP:20260419T200922
CREATED:20250609T121259Z
LAST-MODIFIED:20260228T151327Z
UID:252729-1781121600-1781121600@photocraftcameraclub.co.uk
SUMMARY:AGM\, awards and social evening
DESCRIPTION:After several years of holding our Annual General Meeting (AGM) online\, we’re excited to announce that this year\, we’ll be meeting in person. Join us for the AGM\, the presentation of awards\, and a social evening following the formalities.
URL:https://photocraftcameraclub.co.uk/event/agm-awards-and-social-evening/
LOCATION:St Patrick’s Centre\, St Patrick's Centre\, Park Hill Road\, Wallington\, SM60RZ\, United Kingdom
CATEGORIES:Member's Evening
ATTACH;FMTTYPE=image/jpeg:https://drive.google.com/thumbnail?id=1KqgNWGgmSUE5iief-QJGxoKLo5wSsV0t&sz=w2048
ORGANIZER;CN="Photocraft Camera Club of Wallington":MAILTO:photocraftcameraclub@gmail.com
END:VEVENT
BEGIN:VEVENT
DTSTART;TZID=Europe/London:20260627T100000
DTEND;TZID=Europe/London:20260627T120000
DTSTAMP:20260419T200922
CREATED:20250609T121152Z
LAST-MODIFIED:20260228T151443Z
UID:252730-1782554400-1782561600@photocraftcameraclub.co.uk
SUMMARY:Coffee Morning
DESCRIPTION:Join your fellow club members for a casual coffee morning at Blossoms Cafe. This is a great opportunity to socialise\, catch up\, and chat about photography in a relaxed setting.
URL:https://photocraftcameraclub.co.uk/event/coffee-morning-3/
LOCATION:Flittons\, 51 Little Woodcote Estate\, Woodmansterne Lane\, Wallington\, SM6 0SW\, United Kingdom
CATEGORIES:Social
ATTACH;FMTTYPE=image/png:https://drive.google.com/thumbnail?id=1vpJhoyfhI3s6VTzf0YpQf2_zgyhPSJMa&sz=w2048
ORGANIZER;CN="Photocraft Camera Club of Wallington":MAILTO:photocraftcameraclub@gmail.com
END:VEVENT
BEGIN:VEVENT
DTSTART;TZID=Europe/London:20260725T100000
DTEND;TZID=Europe/London:20260725T120000
DTSTAMP:20260419T200922
CREATED:20250609T120828Z
LAST-MODIFIED:20260228T145138Z
UID:252731-1784973600-1784980800@photocraftcameraclub.co.uk
SUMMARY:Coffee Morning
DESCRIPTION:Join your fellow club members for a casual coffee morning at Blossoms Cafe. This is a great opportunity to socialise\, catch up\, and chat about photography in a relaxed setting.
URL:https://photocraftcameraclub.co.uk/event/coffee-morning-2/
LOCATION:Flittons\, 51 Little Woodcote Estate\, Woodmansterne Lane\, Wallington\, SM6 0SW\, United Kingdom
CATEGORIES:Social
ATTACH;FMTTYPE=image/png:https://drive.google.com/thumbnail?id=1vpJhoyfhI3s6VTzf0YpQf2_zgyhPSJMa&sz=w2048
ORGANIZER;CN="Photocraft Camera Club of Wallington":MAILTO:photocraftcameraclub@gmail.com
END:VEVENT
BEGIN:VEVENT
DTSTART;TZID=Europe/London:20260829T100000
DTEND;TZID=Europe/London:20260829T120000
DTSTAMP:20260419T200922
CREATED:20250609T120734Z
LAST-MODIFIED:20260228T145652Z
UID:252732-1787997600-1788004800@photocraftcameraclub.co.uk
SUMMARY:Coffee Morning
DESCRIPTION:Join your fellow club members for a casual coffee morning at Blossoms Cafe. This is a great opportunity to socialise\, catch up\, and chat about photography in a relaxed setting.
URL:https://photocraftcameraclub.co.uk/event/coffee-morning/
LOCATION:Flittons\, 51 Little Woodcote Estate\, Woodmansterne Lane\, Wallington\, SM6 0SW\, United Kingdom
CATEGORIES:Social
ATTACH;FMTTYPE=image/png:https://drive.google.com/thumbnail?id=1vpJhoyfhI3s6VTzf0YpQf2_zgyhPSJMa&sz=w2048
ORGANIZER;CN="Photocraft Camera Club of Wallington":MAILTO:photocraftcameraclub@gmail.com
END:VEVENT
END:VCALENDAR