BEGIN:VCALENDAR
VERSION:2.0
PRODID:-//Photocraft Camera Club of Wallington - ECPv6.15.15//NONSGML v1.0//EN
CALSCALE:GREGORIAN
METHOD:PUBLISH
X-WR-CALNAME:Photocraft Camera Club of Wallington
X-ORIGINAL-URL:https://photocraftcameraclub.co.uk
X-WR-CALDESC:Events for Photocraft Camera Club of Wallington
REFRESH-INTERVAL;VALUE=DURATION:PT1H
X-Robots-Tag:noindex
X-PUBLISHED-TTL:PT1H
BEGIN:VTIMEZONE
TZID:Europe/London
BEGIN:DAYLIGHT
TZOFFSETFROM:+0000
TZOFFSETTO:+0100
TZNAME:BST
DTSTART:20240331T010000
END:DAYLIGHT
BEGIN:STANDARD
TZOFFSETFROM:+0100
TZOFFSETTO:+0000
TZNAME:GMT
DTSTART:20241027T010000
END:STANDARD
BEGIN:DAYLIGHT
TZOFFSETFROM:+0000
TZOFFSETTO:+0100
TZNAME:BST
DTSTART:20250330T010000
END:DAYLIGHT
BEGIN:STANDARD
TZOFFSETFROM:+0100
TZOFFSETTO:+0000
TZNAME:GMT
DTSTART:20251026T010000
END:STANDARD
BEGIN:DAYLIGHT
TZOFFSETFROM:+0000
TZOFFSETTO:+0100
TZNAME:BST
DTSTART:20260329T010000
END:DAYLIGHT
BEGIN:STANDARD
TZOFFSETFROM:+0100
TZOFFSETTO:+0000
TZNAME:GMT
DTSTART:20261025T010000
END:STANDARD
END:VTIMEZONE
BEGIN:VEVENT
DTSTART;TZID=Europe/London:20251001T200000
DTEND;TZID=Europe/London:20251001T200000
DTSTAMP:20260418T031613
CREATED:20250609T143220Z
LAST-MODIFIED:20250609T143220Z
UID:252691-1759348800-1759348800@photocraftcameraclub.co.uk
SUMMARY:A Fresh Perspective
DESCRIPTION:“A Fresh Perspective\,” your opportunity to revisit and refine your photographic work. This competition offers club members a unique chance to get a second opinion on their images from a new judge\, providing valuable insights and constructive feedback. Here’s how it works: You can submit up to three images that have previously been entered into any club competition. The beauty of “A Fresh Perspective” is that you have the flexibility to improve your work based on prior critiques. * Refine and Resubmit: You can choose to alter your original images in any way you see fit. This is your chance to take on board previous judges’ comments\, experiment with new techniques\, or simply make those tweaks you’ve always wanted to! * Original Submission: Alternatively\, you can resubmit your images exactly as they were originally presented. Perhaps you felt the initial critique missed something\, or you just want another set of eyes on your original vision. This is a fantastic opportunity to gain new insights\, develop your skills\, and see your images through the Fresh Perspective of another judge’s eyes. A twist to this: we will only ask the judge to nominate his commended and highly commended images.
URL:https://photocraftcameraclub.co.uk/event/a-fresh-perspective/
LOCATION:St Patrick’s Centre\, St Patrick's Centre\, Park Hill Road\, Wallington\, SM60RZ\, United Kingdom
CATEGORIES:Member's Evening
ATTACH;FMTTYPE=:
ORGANIZER;CN="Photocraft Camera Club of Wallington":MAILTO:photocraftcameraclub@gmail.com
END:VEVENT
BEGIN:VEVENT
DTSTART;TZID=Europe/London:20251008T200000
DTEND;TZID=Europe/London:20251008T200000
DTSTAMP:20260418T031613
CREATED:20250609T144110Z
LAST-MODIFIED:20250609T144110Z
UID:252692-1759953600-1759953600@photocraftcameraclub.co.uk
SUMMARY:Photography Challenge - Something Blue
DESCRIPTION:This evening’s photography challenge offers a fresh twist on a club classic. While we’ve explored the fiery hues of red before\, tonight we’re diving into the cooler side of the spectrum with the theme: Something Blue. \nWe’re also thrilled to welcome the expertise of Tony Oliver ARPS CPAGB BPE5\, who will be joining us to share his insights and provide valuable critiques on your submitted images.
URL:https://photocraftcameraclub.co.uk/event/photography-challenge-something-blue/
LOCATION:Online\, South London
CATEGORIES:Member's Evening
ATTACH;FMTTYPE=:
ORGANIZER;CN="Photocraft Camera Club of Wallington":MAILTO:photocraftcameraclub@gmail.com
END:VEVENT
BEGIN:VEVENT
DTSTART;TZID=Europe/London:20251022T200000
DTEND;TZID=Europe/London:20251022T200000
DTSTAMP:20260418T031613
CREATED:20250609T145149Z
LAST-MODIFIED:20250609T145149Z
UID:252694-1761163200-1761163200@photocraftcameraclub.co.uk
SUMMARY:George Robertson my photography and my work in the mountains.
DESCRIPTION:A photographic record of a journey into the remote regions of Gilgit – Baltistan and the Karakoram mountains \nA challenging travel/mountaineering photography journey over three weeks\, at high altitude\, on the Baltoro Glacier in the Karakoram mountains of Northern Pakistan where 4 of the worlds 14 – 8000m peaks lie. The Karakoram mountains\, however\, are very distinctive while most of the worldÕs highest peaks are blanketed in snow and ice\, the Karakoram is an exception. The mountains are vertical jagged outlines of granite spires glistening in the sun on slopes that are often too steep for snow to lie. The Baltoro Glacier is one of the worlds longest outside of the polar regions and our journey follows the glacier into the mountains. All of these aspects combine to make this a truly fascinating and photogenic region which has been visited by many of the world leading photographers including Vittoria Sello and Galen Rowell.
URL:https://photocraftcameraclub.co.uk/event/george-robertson-my-photography-and-my-work-in-the-mountains/
LOCATION:Online\, South London
CATEGORIES:Guest Speaker
ATTACH;FMTTYPE=:
ORGANIZER;CN="Photocraft Camera Club of Wallington":MAILTO:photocraftcameraclub@gmail.com
END:VEVENT
BEGIN:VEVENT
DTSTART;TZID=Europe/London:20251029T200000
DTEND;TZID=Europe/London:20251029T200000
DTSTAMP:20260418T031613
CREATED:20250609T130927Z
LAST-MODIFIED:20250609T130927Z
UID:252696-1761768000-1761768000@photocraftcameraclub.co.uk
SUMMARY:Photocraft vs Mitcham Projected Digital Image Competition
DESCRIPTION:Projected digital image competition against local club Mitcham. The competition will be hosted by Mitcham Camera Club
URL:https://photocraftcameraclub.co.uk/event/photocraft-vs-mitcham-projected-digital-image-competition/
LOCATION:Mitcham Camera Club\, All-Saints Centre\, New Road\, Hackbridge\, Mitcham\, CR4 4JN\, United Kingdom
CATEGORIES:Member's Evening
ATTACH;FMTTYPE=:
ORGANIZER;CN="Photocraft Camera Club of Wallington":MAILTO:photocraftcameraclub@gmail.com
END:VEVENT
END:VCALENDAR