BEGIN:VCALENDAR
VERSION:2.0
PRODID:-//Photocraft Camera Club of Wallington - ECPv6.15.15//NONSGML v1.0//EN
CALSCALE:GREGORIAN
METHOD:PUBLISH
X-ORIGINAL-URL:https://photocraftcameraclub.co.uk
X-WR-CALDESC:Events for Photocraft Camera Club of Wallington
REFRESH-INTERVAL;VALUE=DURATION:PT1H
X-Robots-Tag:noindex
X-PUBLISHED-TTL:PT1H
BEGIN:VTIMEZONE
TZID:Europe/London
BEGIN:DAYLIGHT
TZOFFSETFROM:+0000
TZOFFSETTO:+0100
TZNAME:BST
DTSTART:20240331T010000
END:DAYLIGHT
BEGIN:STANDARD
TZOFFSETFROM:+0100
TZOFFSETTO:+0000
TZNAME:GMT
DTSTART:20241027T010000
END:STANDARD
BEGIN:DAYLIGHT
TZOFFSETFROM:+0000
TZOFFSETTO:+0100
TZNAME:BST
DTSTART:20250330T010000
END:DAYLIGHT
BEGIN:STANDARD
TZOFFSETFROM:+0100
TZOFFSETTO:+0000
TZNAME:GMT
DTSTART:20251026T010000
END:STANDARD
BEGIN:DAYLIGHT
TZOFFSETFROM:+0000
TZOFFSETTO:+0100
TZNAME:BST
DTSTART:20260329T010000
END:DAYLIGHT
BEGIN:STANDARD
TZOFFSETFROM:+0100
TZOFFSETTO:+0000
TZNAME:GMT
DTSTART:20261025T010000
END:STANDARD
END:VTIMEZONE
BEGIN:VEVENT
DTSTART;TZID=Europe/London:20251105T200000
DTEND;TZID=Europe/London:20251105T200000
DTSTAMP:20260419T165250
CREATED:20250609T143025Z
LAST-MODIFIED:20250609T143025Z
UID:252697-1762372800-1762372800@photocraftcameraclub.co.uk
SUMMARY:Youtube Evening
DESCRIPTION:Following our debut of this format last season\, please share any ideas for videos you may wish to see. Remember\, we can pretty much cover all aspects from taking to printing.
URL:https://photocraftcameraclub.co.uk/event/youtube-evening/
LOCATION:St Patrick’s Centre\, St Patrick's Centre\, Park Hill Road\, Wallington\, SM60RZ\, United Kingdom
CATEGORIES:Member's Evening
ATTACH;FMTTYPE=:
ORGANIZER;CN="Photocraft Camera Club of Wallington":MAILTO:photocraftcameraclub@gmail.com
END:VEVENT
BEGIN:VEVENT
DTSTART;TZID=Europe/London:20251112T200000
DTEND;TZID=Europe/London:20251112T200000
DTSTAMP:20260419T165250
CREATED:20250609T142818Z
LAST-MODIFIED:20250609T142818Z
UID:252698-1762977600-1762977600@photocraftcameraclub.co.uk
SUMMARY:Edit an Image
DESCRIPTION:Show us your editing skills! Members will demonstrate their unique editing techniques. We will ask you to provide an image for another member to creatively edit\, and you will receive an image from another member to edit as you see fit. Each participant will receive the same stock image to process. Our goal is to discover the incredible variety of creative interpretations possible from a single photograph. Experimental edits are definitely welcome!
URL:https://photocraftcameraclub.co.uk/event/edit-an-image/
LOCATION:Online\, South London
CATEGORIES:Member's Evening
ATTACH;FMTTYPE=:
ORGANIZER;CN="Photocraft Camera Club of Wallington":MAILTO:photocraftcameraclub@gmail.com
END:VEVENT
BEGIN:VEVENT
DTSTART;TZID=Europe/London:20251119T200000
DTEND;TZID=Europe/London:20251119T200000
DTSTAMP:20260419T165250
CREATED:20250609T131043Z
LAST-MODIFIED:20250609T131043Z
UID:252699-1763582400-1763582400@photocraftcameraclub.co.uk
SUMMARY:Print No.1
DESCRIPTION:Round one of three of our print competition. Submit up to three digital images in colour or monochrome. On any theme. Your top two entries will score points and contribute to the overall leaderboard for the open print competition.
URL:https://photocraftcameraclub.co.uk/event/print-no-1/
LOCATION:St Patrick’s Centre\, St Patrick's Centre\, Park Hill Road\, Wallington\, SM60RZ\, United Kingdom
CATEGORIES:Club Competition
ATTACH;FMTTYPE=:
ORGANIZER;CN="Photocraft Camera Club of Wallington":MAILTO:photocraftcameraclub@gmail.com
END:VEVENT
BEGIN:VEVENT
DTSTART;TZID=Europe/London:20251126T200000
DTEND;TZID=Europe/London:20251126T200000
DTSTAMP:20260419T165250
CREATED:20250609T142723Z
LAST-MODIFIED:20250609T142723Z
UID:252700-1764187200-1764187200@photocraftcameraclub.co.uk
SUMMARY:How to be an Artist with a Camera a talk by Eva Polak
DESCRIPTION:Join us for an inspiring 90-minute talk\, including a Q&A session\, designed to transform the way you see the world through your camera. \nPresented by the talented Eva Polak from New Zealand\, this session is beautifully illustrated with her breathtaking impressionist photographs. Eva will delve into what it truly means to be an artist with a camera\, exploring essential techniques and unlocking the captivating visual language of impressionist photography.
URL:https://photocraftcameraclub.co.uk/event/how-to-be-an-artist/
LOCATION:Online\, South London
CATEGORIES:Guest Speaker
ATTACH;FMTTYPE=:
ORGANIZER;CN="Photocraft Camera Club of Wallington":MAILTO:photocraftcameraclub@gmail.com
END:VEVENT
END:VCALENDAR