BEGIN:VCALENDAR
VERSION:2.0
PRODID:-//Photocraft Camera Club of Wallington - ECPv6.15.15//NONSGML v1.0//EN
CALSCALE:GREGORIAN
METHOD:PUBLISH
X-WR-CALNAME:Photocraft Camera Club of Wallington
X-ORIGINAL-URL:https://photocraftcameraclub.co.uk
X-WR-CALDESC:Events for Photocraft Camera Club of Wallington
REFRESH-INTERVAL;VALUE=DURATION:PT1H
X-Robots-Tag:noindex
X-PUBLISHED-TTL:PT1H
BEGIN:VTIMEZONE
TZID:Europe/London
BEGIN:DAYLIGHT
TZOFFSETFROM:+0000
TZOFFSETTO:+0100
TZNAME:BST
DTSTART:20240331T010000
END:DAYLIGHT
BEGIN:STANDARD
TZOFFSETFROM:+0100
TZOFFSETTO:+0000
TZNAME:GMT
DTSTART:20241027T010000
END:STANDARD
BEGIN:DAYLIGHT
TZOFFSETFROM:+0000
TZOFFSETTO:+0100
TZNAME:BST
DTSTART:20250330T010000
END:DAYLIGHT
BEGIN:STANDARD
TZOFFSETFROM:+0100
TZOFFSETTO:+0000
TZNAME:GMT
DTSTART:20251026T010000
END:STANDARD
BEGIN:DAYLIGHT
TZOFFSETFROM:+0000
TZOFFSETTO:+0100
TZNAME:BST
DTSTART:20260329T010000
END:DAYLIGHT
BEGIN:STANDARD
TZOFFSETFROM:+0100
TZOFFSETTO:+0000
TZNAME:GMT
DTSTART:20261025T010000
END:STANDARD
END:VTIMEZONE
BEGIN:VEVENT
DTSTART;TZID=Europe/London:20251203T200000
DTEND;TZID=Europe/London:20251203T200000
DTSTAMP:20260417T220219
CREATED:20250609T130818Z
LAST-MODIFIED:20260103T130233Z
UID:252702-1764792000-1764792000@photocraftcameraclub.co.uk
SUMMARY:Projected Digital Image No.2
DESCRIPTION:Round two of three of our projected digital image competition. Submit up to three digital images in colour or monochrome. On any theme. Your top two entries will score points and contribute to the overall leaderboard for the open digital image competition.
URL:https://photocraftcameraclub.co.uk/event/projected-digital-image-no-2/
LOCATION:St Patrick’s Centre\, St Patrick's Centre\, Park Hill Road\, Wallington\, SM60RZ\, United Kingdom
CATEGORIES:Club Competition
ATTACH;FMTTYPE=:
ORGANIZER;CN="Photocraft Camera Club of Wallington":MAILTO:photocraftcameraclub@gmail.com
END:VEVENT
BEGIN:VEVENT
DTSTART;TZID=Europe/London:20251210T200000
DTEND;TZID=Europe/London:20251210T200000
DTSTAMP:20260417T220219
CREATED:20250609T150927Z
LAST-MODIFIED:20250609T150927Z
UID:252703-1765396800-1765396800@photocraftcameraclub.co.uk
SUMMARY:Photography Challenge - Creative Vision
DESCRIPTION:Following Keith Snell’s insightful talk\, Is It Art?\, this photography challenge aims to push your creative boundaries. Keith explored the artistic potential of photography\, sharing his journey and techniques\, particularly focusing on Intentional Camera Movement (ICM) and Multiple Exposures. \nPlease submit up to three images that demonstrate photography as an art form\, utilising or inspired by ICM and/or multiple exposures. \nRemember\, participation is what truly counts. We’ll gladly accept images that even loosely follow the challenge theme\, so let your creativity flow and show us your unique artistic vision.
URL:https://photocraftcameraclub.co.uk/event/photography-challenge-creative-vision/
LOCATION:Online\, South London
CATEGORIES:Member's Evening
ATTACH;FMTTYPE=:
ORGANIZER;CN="Photocraft Camera Club of Wallington":MAILTO:photocraftcameraclub@gmail.com
END:VEVENT
BEGIN:VEVENT
DTSTART;TZID=Europe/London:20251217T193000
DTEND;TZID=Europe/London:20251217T193000
DTSTAMP:20260417T220219
CREATED:20250609T143848Z
LAST-MODIFIED:20250609T143848Z
UID:252704-1765999800-1765999800@photocraftcameraclub.co.uk
SUMMARY:Christmas Get Together
DESCRIPTION:Christmas get together at The Hope Pub in Carshalton. The Hope has been awarded Sutton&Croydon POTY 2025 and now..Greater London Pub Of The Year 2025.
URL:https://photocraftcameraclub.co.uk/event/christmas-get-together/
LOCATION:The Hope\, 48 West Street\, Carshalton\, SM5 2PR\, United Kingdom
CATEGORIES:Member's Evening
ATTACH;FMTTYPE=:
ORGANIZER;CN="Photocraft Camera Club of Wallington":MAILTO:photocraftcameraclub@gmail.com
END:VEVENT
END:VCALENDAR